Workbook

Sheet 1.CropDatabase
A1: CROP DATABASE
B2: ***DO NOT CHANGE THE ORDER OF THE COLUMNS IN THIS SHEET OR YOU WILL BREAK EVERYTHING***
B3: Populated Range of Sheet: | C3: 1.CropDatabase!A7:AI82 | D3: <-- After adding new crops sort by Crop (or code) and if you get to more than 100 crops you'll need to update "populated range" to prevent errors in "Sucessions" sheet
A4: GENERAL INFO | E4: SEEDS + GREENHOUSE | J4: IN FIELD | O4: Row Cover? | P4: L.scape Fabric? | Q4: HARVEST $$
A5: Code | B5: Crop | C5: Variety | D5: Seed Distributor | E5: TraySize (0 if DS) | F5: DTF (seed 2 field, 0 if DS) | G5: %SeedLoss | H5: Seeds/Bed | I5: Trays/Bed | J5: Rows/Bed | K5: Spacing InRow (in) | L5: DTM (seed 2 harvest) | M5: Harvest Window | N5: DaysInField | Q5: Yield/50ftBed | R5: Units | S5: Price/Unit | T5: Revenue/Bed | U5: Link to Order
A6: 1 | B6: 2 | C6: 3 | D6: 4 | E6: 5 | F6: 6 | G6: 7 | H6: 8 | I6: 9 | J6: 10 | K6: 11 | L6: 12 | M6: 13 | N6: 14 | O6: 15 | P6: 16 | Q6: 32 | R6: 33 | S6: 34 | T6: 35
E7: 0 | F7: 0 | G7: 0.3 | H7: =ROUNDUP((12*50/K7)*J7*(1+G7),0) -> #DIV/0! | I7: =IF(E7=0,"DS",H7/E7) -> DS | N7: =L7+M7-F7 -> 0 | O7: 0 | P7: 0 | T7: =S7*Q7 -> 0
E8: 0 | F8: 0 | G8: 0.3 | H8: =ROUNDUP((12*50/K8)*J8*(1+G8),0) -> #DIV/0! | I8: =IF(E8=0,"DS",H8/E8) -> DS | N8: =L8+M8-F8 -> 0 | O8: 0 | P8: 0 | T8: =S8*Q8 -> 0
E9: 0 | F9: 0 | G9: 0.3 | H9: =ROUNDUP((12*50/K9)*J9*(1+G9),0) -> #DIV/0! | I9: =IF(E9=0,"DS",H9/E9) -> DS | N9: =L9+M9-F9 -> 0 | O9: 0 | P9: 0 | T9: =S9*Q9 -> 0
E10: 0 | F10: 0 | G10: 0.3 | H10: =ROUNDUP((12*50/K10)*J10*(1+G10),0) -> #DIV/0! | I10: =IF(E10=0,"DS",H10/E10) -> DS | N10: =L10+M10-F10 -> 0 | O10: 0 | P10: 0 | T10: =S10*Q10 -> 0
E11: 0 | F11: 0 | G11: 0.3 | H11: =ROUNDUP((12*50/K11)*J11*(1+G11),0) -> #DIV/0! | I11: =IF(E11=0,"DS",H11/E11) -> DS | N11: =L11+M11-F11 -> 0 | O11: 0 | P11: 0 | T11: =S11*Q11 -> 0
E12: 0 | F12: 0 | G12: 0.3 | H12: =ROUNDUP((12*50/K12)*J12*(1+G12),0) -> #DIV/0! | I12: =IF(E12=0,"DS",H12/E12) -> DS | N12: =L12+M12-F12 -> 0 | O12: 0 | P12: 0 | T12: =S12*Q12 -> 0
E13: 0 | F13: 0 | G13: 0.3 | H13: =ROUNDUP((12*50/K13)*J13*(1+G13),0) -> #DIV/0! | I13: =IF(E13=0,"DS",H13/E13) -> DS | N13: =L13+M13-F13 -> 0 | O13: 0 | P13: 0 | T13: =S13*Q13 -> 0
E14: 0 | F14: 0 | G14: 0.3 | H14: =ROUNDUP((12*50/K14)*J14*(1+G14),0) -> #DIV/0! | I14: =IF(E14=0,"DS",H14/E14) -> DS | N14: =L14+M14-F14 -> 0 | O14: 0 | P14: 0 | T14: =S14*Q14 -> 0
E15: 0 | F15: 0 | G15: 0.3 | H15: =ROUNDUP((12*50/K15)*J15*(1+G15),0) -> #DIV/0! | I15: =IF(E15=0,"DS",H15/E15) -> DS | N15: =L15+M15-F15 -> 0 | O15: 0 | P15: 0 | T15: =S15*Q15 -> 0
E16: 0 | F16: 0 | G16: 0.3 | H16: =ROUNDUP((12*50/K16)*J16*(1+G16),0) -> #DIV/0! | I16: =IF(E16=0,"DS",H16/E16) -> DS | N16: =L16+M16-F16 -> 0 | O16: 0 | P16: 0 | T16: =S16*Q16 -> 0
E17: 0 | F17: 0 | G17: 0.3 | H17: =ROUNDUP((12*50/K17)*J17*(1+G17),0) -> #DIV/0! | I17: =IF(E17=0,"DS",H17/E17) -> DS | N17: =L17+M17-F17 -> 0 | O17: 0 | P17: 0 | T17: =S17*Q17 -> 0
E18: 0 | F18: 0 | G18: 0.3 | H18: =ROUNDUP((12*50/K18)*J18*(1+G18),0) -> #DIV/0! | I18: =IF(E18=0,"DS",H18/E18) -> DS | N18: =L18+M18-F18 -> 0 | O18: 0 | P18: 0 | T18: =S18*Q18 -> 0
... E79: 0 | F79: 0 | G79: 0.3 | H79: =ROUNDUP((12*50/K79)*J79*(1+G79),0) -> #DIV/0! | I79: =IF(E79=0,"DS",H79/E79) -> DS | N79: =L79+M79-F79 -> 0 | O79: 0 | P79: 0 | T79: =S79*Q79 -> 0
H80: =ROUNDUP((12*50/K80)*J80*(1+G80),0) -> #DIV/0! | I80: =IF(E80=0,"DS",H80/E80) -> DS | N80: =L80+M80-F80 -> 0 | O80: 0 | P80: 0 | T80: =S80*Q80 -> 0
H81: =ROUNDUP((12*50/K81)*J81*(1+G81),0) -> #DIV/0! | I81: =IF(E81=0,"DS",H81/E81) -> DS | N81: =L81+M81-F81 -> 0 | O81: 0 | P81: 0 | T81: =S81*Q81 -> 0
H82: =ROUNDUP((12*50/K82)*J82*(1+G82),0) -> #DIV/0! | I82: =IF(E82=0,"DS",H82/E82) -> DS | N82: =L82+M82-F82 -> 0 | O82: 0 | P82: 0 | T82: =S82*Q82 -> 0
H83: =ROUNDUP((12*50/K83)*J83*(1+G83),0) -> #DIV/0! | I83: =IF(E83=0,"DS",H83/E83) -> DS | N83: =L83+M83-F83 -> 0 | O83: 0 | P83: 0 | T83: =S83*Q83 -> 0
H84: =ROUNDUP((12*50/K84)*J84*(1+G84),0) -> #DIV/0! | I84: =IF(E84=0,"DS",H84/E84) -> DS | N84: =L84+M84-F84 -> 0 | O84: 0 | P84: 0 | T84: =S84*Q84 -> 0
H85: =ROUNDUP((12*50/K85)*J85*(1+G85),0) -> #DIV/0! | I85: =IF(E85=0,"DS",H85/E85) -> DS | N85: =L85+M85-F85 -> 0 | O85: 0 | P85: 0 | T85: =S85*Q85 -> 0
H86: =ROUNDUP((12*50/K86)*J86*(1+G86),0) -> #DIV/0! | I86: =IF(E86=0,"DS",H86/E86) -> DS | N86: =L86+M86-F86 -> 0 | O86: 0 | P86: 0 | T86: =S86*Q86 -> 0
H87: =ROUNDUP((12*50/K87)*J87*(1+G87),0) -> #DIV/0! | I87: =IF(E87=0,"DS",H87/E87) -> DS | N87: =L87+M87-F87 -> 0 | O87: 0 | P87: 0 | T87: =S87*Q87 -> 0
H88: =ROUNDUP((12*50/K88)*J88*(1+G88),0) -> #DIV/0! | I88: =IF(E88=0,"DS",H88/E88) -> DS | N88: =L88+M88-F88 -> 0 | O88: 0 | P88: 0 | T88: =S88*Q88 -> 0
H89: =ROUNDUP((12*50/K89)*J89*(1+G89),0) -> #DIV/0! | I89: =IF(E89=0,"DS",H89/E89) -> DS | N89: =L89+M89-F89 -> 0 | O89: 0 | P89: 0 | T89: =S89*Q89 -> 0
H90: =ROUNDUP((12*50/K90)*J90*(1+G90),0) -> #DIV/0! | I90: =IF(E90=0,"DS",H90/E90) -> DS | N90: =L90+M90-F90 -> 0 | O90: 0 | P90: 0 | T90: =S90*Q90 -> 0
H91: =ROUNDUP((12*50/K91)*J91*(1+G91),0) -> #DIV/0! | I91: =IF(E91=0,"DS",H91/E91) -> DS | N91: =L91+M91-F91 -> 0 | O91: 0 | P91: 0 | T91: =S91*Q91 -> 0
... H95: =ROUNDUP((12*50/K95)*J95*(1+G95),0) -> #DIV/0! | I95: =IF(E95=0,"DS",H95/E95) -> DS | N95: =L95+M95-F95 -> 0 | O95: 0 | P95: 0 | T95: =S95*Q95 -> 0

Sheet 2.Sucessions
A1: PLANTING SUCESSIONS PLAN
A2: Instructions: (1) Pick your crop and the desired start of harvest date (2) Fill in the crop code (from dropdown), sucession #, and the number of beds to be planted in the sucession (3) Copy the text in the yellow range and paste into a text box on the Field Map tab (4) Once all crops are place on your map, fill in the Location colums for the sucession in this sheet NOTES: Light blue fields are auto-calculated
A4: START HERE!! | B4: SEEDS/GREENHOUSE/PLANTING | F4: FIELD LOCATION (from Field Map) | H4: # L.scape Fabric | I4: # Row Cover | J4: HARVEST $$$ | N4: COPY/PASTE to FIELD MAP TAB
A5: Crop | B5: Seeding Date | C5: Seeds Needed (allows for loss) | D5: # of Trays to Plant | E5: Transplant Date | F5: Plot(s) | G5: Bed(s) | J5: Harvest Start | K5: Harvest End | L5: Units | M5: Expected Revenue | N5: Code | O5: Sucession | R5: # of Beds | T5: Transplant Date | V5: Harvest End
C6: =R6*VLOOKUP(N6,INDIRECT('1.CropDatabase'!$C$3),8,0) -> #N/A | D6: =IF(VLOOKUP(N6,INDIRECT('1.CropDatabase'!$C$3),9,0)="DS","DS",R6*VLOOKUP(N6,INDIRECT('1.CropDatabase'!$C$3),9,0)) -> #N/A | E6: =B6+VLOOKUP(N6,INDIRECT('1.CropDatabase'!$C$3),6,0) -> #N/A | H6: =VLOOKUP(N6,INDIRECT('1.CropDatabase'!$C$3),16,0)*R6 -> #N/A | I6: =VLOOKUP(N6,INDIRECT('1.CropDatabase'!$C$3),15,0)*R6 -> #N/A | J6: =B6+VLOOKUP(N6,INDIRECT('1.CropDatabase'!$C$3),12,0) -> #N/A | K6: =B6+VLOOKUP(P6,INDIRECT('1.CropDatabase'!$C$3),12,0)+VLOOKUP(P6,INDIRECT('1.CropDatabase'!$C$3),13,0) -> #N/A | L6: =VLOOKUP($N6,INDIRECT('1.CropDatabase'!$C$3),33,0) -> #N/A | M6: =R6*VLOOKUP($N6,INDIRECT('1.CropDatabase'!$C$3),35,0) -> #N/A | O6: # | Q6: , | S6: bed | T6: =E6 -> #N/A | U6: - | V6: =K6 -> #N/A
C7: =R7*VLOOKUP(N7,INDIRECT('1.CropDatabase'!$C$3),8,0) -> #N/A | D7: =IF(VLOOKUP(N7,INDIRECT('1.CropDatabase'!$C$3),9,0)="DS","DS",R7*VLOOKUP(N7,INDIRECT('1.CropDatabase'!$C$3),9,0)) -> #N/A | E7: =B7+VLOOKUP(N7,INDIRECT('1.CropDatabase'!$C$3),6,0) -> #N/A | H7: =VLOOKUP(N7,INDIRECT('1.CropDatabase'!$C$3),16,0)*R7 -> #N/A | I7: =VLOOKUP(N7,INDIRECT('1.CropDatabase'!$C$3),15,0)*R7 -> #N/A | J7: =B7+VLOOKUP(N7,INDIRECT('1.CropDatabase'!$C$3),12,0) -> #N/A | K7: =B7+VLOOKUP(P7,INDIRECT('1.CropDatabase'!$C$3),12,0)+VLOOKUP(P7,INDIRECT('1.CropDatabase'!$C$3),13,0) -> #N/A | L7: =VLOOKUP($N7,INDIRECT('1.CropDatabase'!$C$3),33,0) -> #N/A | M7: =R7*VLOOKUP($N7,INDIRECT('1.CropDatabase'!$C$3),35,0) -> #N/A | O7: # | Q7: , | S7: bed | T7: =E7 -> #N/A | U7: - | V7: =K7 -> #N/A
C8: =R8*VLOOKUP(N8,INDIRECT('1.CropDatabase'!$C$3),8,0) -> #N/A | D8: =IF(VLOOKUP(N8,INDIRECT('1.CropDatabase'!$C$3),9,0)="DS","DS",R8*VLOOKUP(N8,INDIRECT('1.CropDatabase'!$C$3),9,0)) -> #N/A | E8: =B8+VLOOKUP(N8,INDIRECT('1.CropDatabase'!$C$3),6,0) -> #N/A | H8: =VLOOKUP(N8,INDIRECT('1.CropDatabase'!$C$3),16,0)*R8 -> #N/A | I8: =VLOOKUP(N8,INDIRECT('1.CropDatabase'!$C$3),15,0)*R8 -> #N/A | J8: =B8+VLOOKUP(N8,INDIRECT('1.CropDatabase'!$C$3),12,0) -> #N/A | K8: =B8+VLOOKUP(P8,INDIRECT('1.CropDatabase'!$C$3),12,0)+VLOOKUP(P8,INDIRECT('1.CropDatabase'!$C$3),13,0) -> #N/A | L8: =VLOOKUP($N8,INDIRECT('1.CropDatabase'!$C$3),33,0) -> #N/A | M8: =R8*VLOOKUP($N8,INDIRECT('1.CropDatabase'!$C$3),35,0) -> #N/A | O8: # | Q8: , | S8: bed | T8: =E8 -> #N/A | U8: - | V8: =K8 -> #N/A
C9: =R9*VLOOKUP(N9,INDIRECT('1.CropDatabase'!$C$3),8,0) -> #N/A | D9: =IF(VLOOKUP(N9,INDIRECT('1.CropDatabase'!$C$3),9,0)="DS","DS",R9*VLOOKUP(N9,INDIRECT('1.CropDatabase'!$C$3),9,0)) -> #N/A | E9: =B9+VLOOKUP(N9,INDIRECT('1.CropDatabase'!$C$3),6,0) -> #N/A | H9: =VLOOKUP(N9,INDIRECT('1.CropDatabase'!$C$3),16,0)*R9 -> #N/A | I9: =VLOOKUP(N9,INDIRECT('1.CropDatabase'!$C$3),15,0)*R9 -> #N/A | J9: =B9+VLOOKUP(N9,INDIRECT('1.CropDatabase'!$C$3),12,0) -> #N/A | K9: =B9+VLOOKUP(P9,INDIRECT('1.CropDatabase'!$C$3),12,0)+VLOOKUP(P9,INDIRECT('1.CropDatabase'!$C$3),13,0) -> #N/A | L9: =VLOOKUP($N9,INDIRECT('1.CropDatabase'!$C$3),33,0) -> #N/A | M9: =R9*VLOOKUP($N9,INDIRECT('1.CropDatabase'!$C$3),35,0) -> #N/A | O9: # | Q9: , | S9: bed | T9: =E9 -> #N/A | U9: - | V9: =K9 -> #N/A
C10: =R10*VLOOKUP(N10,INDIRECT('1.CropDatabase'!$C$3),8,0) -> #N/A | D10: =IF(VLOOKUP(N10,INDIRECT('1.CropDatabase'!$C$3),9,0)="DS","DS",R10*VLOOKUP(N10,INDIRECT('1.CropDatabase'!$C$3),9,0)) -> #N/A | E10: =B10+VLOOKUP(N10,INDIRECT('1.CropDatabase'!$C$3),6,0) -> #N/A | H10: =VLOOKUP(N10,INDIRECT('1.CropDatabase'!$C$3),16,0)*R10 -> #N/A | I10: =VLOOKUP(N10,INDIRECT('1.CropDatabase'!$C$3),15,0)*R10 -> #N/A | J10: =B10+VLOOKUP(N10,INDIRECT('1.CropDatabase'!$C$3),12,0) -> #N/A | K10: =B10+VLOOKUP(P10,INDIRECT('1.CropDatabase'!$C$3),12,0)+VLOOKUP(P10,INDIRECT('1.CropDatabase'!$C$3),13,0) -> #N/A | L10: =VLOOKUP($N10,INDIRECT('1.CropDatabase'!$C$3),33,0) -> #N/A | M10: =R10*VLOOKUP($N10,INDIRECT('1.CropDatabase'!$C$3),35,0) -> #N/A | O10: # | Q10: , | S10: bed | T10: =E10 -> #N/A | U10: - | V10: =K10 -> #N/A
C11: =R11*VLOOKUP(N11,INDIRECT('1.CropDatabase'!$C$3),8,0) -> #N/A | D11: =IF(VLOOKUP(N11,INDIRECT('1.CropDatabase'!$C$3),9,0)="DS","DS",R11*VLOOKUP(N11,INDIRECT('1.CropDatabase'!$C$3),9,0)) -> #N/A | E11: =B11+VLOOKUP(N11,INDIRECT('1.CropDatabase'!$C$3),6,0) -> #N/A | H11: =VLOOKUP(N11,INDIRECT('1.CropDatabase'!$C$3),16,0)*R11 -> #N/A | I11: =VLOOKUP(N11,INDIRECT('1.CropDatabase'!$C$3),15,0)*R11 -> #N/A | J11: =B11+VLOOKUP(N11,INDIRECT('1.CropDatabase'!$C$3),12,0) -> #N/A | K11: =B11+VLOOKUP(P11,INDIRECT('1.CropDatabase'!$C$3),12,0)+VLOOKUP(P11,INDIRECT('1.CropDatabase'!$C$3),13,0) -> #N/A | L11: =VLOOKUP($N11,INDIRECT('1.CropDatabase'!$C$3),33,0) -> #N/A | M11: =R11*VLOOKUP($N11,INDIRECT('1.CropDatabase'!$C$3),35,0) -> #N/A | O11: # | Q11: , | S11: bed | T11: =E11 -> #N/A | U11: - | V11: =K11 -> #N/A
C12: =R12*VLOOKUP(N12,INDIRECT('1.CropDatabase'!$C$3),8,0) -> #N/A | D12: =IF(VLOOKUP(N12,INDIRECT('1.CropDatabase'!$C$3),9,0)="DS","DS",R12*VLOOKUP(N12,INDIRECT('1.CropDatabase'!$C$3),9,0)) -> #N/A | E12: =B12+VLOOKUP(N12,INDIRECT('1.CropDatabase'!$C$3),6,0) -> #N/A | H12: =VLOOKUP(N12,INDIRECT('1.CropDatabase'!$C$3),16,0)*R12 -> #N/A | I12: =VLOOKUP(N12,INDIRECT('1.CropDatabase'!$C$3),15,0)*R12 -> #N/A | J12: =B12+VLOOKUP(N12,INDIRECT('1.CropDatabase'!$C$3),12,0) -> #N/A | K12: =B12+VLOOKUP(P12,INDIRECT('1.CropDatabase'!$C$3),12,0)+VLOOKUP(P12,INDIRECT('1.CropDatabase'!$C$3),13,0) -> #N/A | L12: =VLOOKUP($N12,INDIRECT('1.CropDatabase'!$C$3),33,0) -> #N/A | M12: =R12*VLOOKUP($N12,INDIRECT('1.CropDatabase'!$C$3),35,0) -> #N/A | O12: # | Q12: , | S12: bed | T12: =E12 -> #N/A | U12: - | V12: =K12 -> #N/A
C13: =R13*VLOOKUP(N13,INDIRECT('1.CropDatabase'!$C$3),8,0) -> #N/A | D13: =IF(VLOOKUP(N13,INDIRECT('1.CropDatabase'!$C$3),9,0)="DS","DS",R13*VLOOKUP(N13,INDIRECT('1.CropDatabase'!$C$3),9,0)) -> #N/A | E13: =B13+VLOOKUP(N13,INDIRECT('1.CropDatabase'!$C$3),6,0) -> #N/A | H13: =VLOOKUP(N13,INDIRECT('1.CropDatabase'!$C$3),16,0)*R13 -> #N/A | I13: =VLOOKUP(N13,INDIRECT('1.CropDatabase'!$C$3),15,0)*R13 -> #N/A | J13: =B13+VLOOKUP(N13,INDIRECT('1.CropDatabase'!$C$3),12,0) -> #N/A | K13: =B13+VLOOKUP(P13,INDIRECT('1.CropDatabase'!$C$3),12,0)+VLOOKUP(P13,INDIRECT('1.CropDatabase'!$C$3),13,0) -> #N/A | L13: =VLOOKUP($N13,INDIRECT('1.CropDatabase'!$C$3),33,0) -> #N/A | M13: =R13*VLOOKUP($N13,INDIRECT('1.CropDatabase'!$C$3),35,0) -> #N/A | O13: # | Q13: , | S13: bed | T13: =E13 -> #N/A | U13: - | V13: =K13 -> #N/A
C14: =R14*VLOOKUP(N14,INDIRECT('1.CropDatabase'!$C$3),8,0) -> #N/A | D14: =IF(VLOOKUP(N14,INDIRECT('1.CropDatabase'!$C$3),9,0)="DS","DS",R14*VLOOKUP(N14,INDIRECT('1.CropDatabase'!$C$3),9,0)) -> #N/A | E14: =B14+VLOOKUP(N14,INDIRECT('1.CropDatabase'!$C$3),6,0) -> #N/A | H14: =VLOOKUP(N14,INDIRECT('1.CropDatabase'!$C$3),16,0)*R14 -> #N/A | I14: =VLOOKUP(N14,INDIRECT('1.CropDatabase'!$C$3),15,0)*R14 -> #N/A | J14: =B14+VLOOKUP(N14,INDIRECT('1.CropDatabase'!$C$3),12,0) -> #N/A | K14: =B14+VLOOKUP(P14,INDIRECT('1.CropDatabase'!$C$3),12,0)+VLOOKUP(P14,INDIRECT('1.CropDatabase'!$C$3),13,0) -> #N/A | L14: =VLOOKUP($N14,INDIRECT('1.CropDatabase'!$C$3),33,0) -> #N/A | M14: =R14*VLOOKUP($N14,INDIRECT('1.CropDatabase'!$C$3),35,0) -> #N/A | O14: # | Q14: , | S14: bed | T14: =E14 -> #N/A | U14: - | V14: =K14 -> #N/A
C15: =R15*VLOOKUP(N15,INDIRECT('1.CropDatabase'!$C$3),8,0) -> #N/A | D15: =IF(VLOOKUP(N15,INDIRECT('1.CropDatabase'!$C$3),9,0)="DS","DS",R15*VLOOKUP(N15,INDIRECT('1.CropDatabase'!$C$3),9,0)) -> #N/A | E15: =B15+VLOOKUP(N15,INDIRECT('1.CropDatabase'!$C$3),6,0) -> #N/A | H15: =VLOOKUP(N15,INDIRECT('1.CropDatabase'!$C$3),16,0)*R15 -> #N/A | I15: =VLOOKUP(N15,INDIRECT('1.CropDatabase'!$C$3),15,0)*R15 -> #N/A | J15: =B15+VLOOKUP(N15,INDIRECT('1.CropDatabase'!$C$3),12,0) -> #N/A | K15: =B15+VLOOKUP(P15,INDIRECT('1.CropDatabase'!$C$3),12,0)+VLOOKUP(P15,INDIRECT('1.CropDatabase'!$C$3),13,0) -> #N/A | L15: =VLOOKUP($N15,INDIRECT('1.CropDatabase'!$C$3),33,0) -> #N/A | M15: =R15*VLOOKUP($N15,INDIRECT('1.CropDatabase'!$C$3),35,0) -> #N/A | O15: # | Q15: , | S15: bed | T15: =E15 -> #N/A | U15: - | V15: =K15 -> #N/A
C16: =R16*VLOOKUP(N16,INDIRECT('1.CropDatabase'!$C$3),8,0) -> #N/A | D16: =IF(VLOOKUP(N16,INDIRECT('1.CropDatabase'!$C$3),9,0)="DS","DS",R16*VLOOKUP(N16,INDIRECT('1.CropDatabase'!$C$3),9,0)) -> #N/A | E16: =B16+VLOOKUP(N16,INDIRECT('1.CropDatabase'!$C$3),6,0) -> #N/A | H16: =VLOOKUP(N16,INDIRECT('1.CropDatabase'!$C$3),16,0)*R16 -> #N/A | I16: =VLOOKUP(N16,INDIRECT('1.CropDatabase'!$C$3),15,0)*R16 -> #N/A | J16: =B16+VLOOKUP(N16,INDIRECT('1.CropDatabase'!$C$3),12,0) -> #N/A | K16: =B16+VLOOKUP(P16,INDIRECT('1.CropDatabase'!$C$3),12,0)+VLOOKUP(P16,INDIRECT('1.CropDatabase'!$C$3),13,0) -> #N/A | L16: =VLOOKUP($N16,INDIRECT('1.CropDatabase'!$C$3),33,0) -> #N/A | M16: =R16*VLOOKUP($N16,INDIRECT('1.CropDatabase'!$C$3),35,0) -> #N/A | O16: # | Q16: , | S16: bed | T16: =E16 -> #N/A | U16: - | V16: =K16 -> #N/A
C17: =R17*VLOOKUP(N17,INDIRECT('1.CropDatabase'!$C$3),8,0) -> #N/A | D17: =IF(VLOOKUP(N17,INDIRECT('1.CropDatabase'!$C$3),9,0)="DS","DS",R17*VLOOKUP(N17,INDIRECT('1.CropDatabase'!$C$3),9,0)) -> #N/A | E17: =B17+VLOOKUP(N17,INDIRECT('1.CropDatabase'!$C$3),6,0) -> #N/A | H17: =VLOOKUP(N17,INDIRECT('1.CropDatabase'!$C$3),16,0)*R17 -> #N/A | I17: =VLOOKUP(N17,INDIRECT('1.CropDatabase'!$C$3),15,0)*R17 -> #N/A | J17: =B17+VLOOKUP(N17,INDIRECT('1.CropDatabase'!$C$3),12,0) -> #N/A | K17: =B17+VLOOKUP(P17,INDIRECT('1.CropDatabase'!$C$3),12,0)+VLOOKUP(P17,INDIRECT('1.CropDatabase'!$C$3),13,0) -> #N/A | L17: =VLOOKUP($N17,INDIRECT('1.CropDatabase'!$C$3),33,0) -> #N/A | M17: =R17*VLOOKUP($N17,INDIRECT('1.CropDatabase'!$C$3),35,0) -> #N/A | O17: # | Q17: , | S17: bed | T17: =E17 -> #N/A | U17: - | V17: =K17 -> #N/A
... C396: =R396*VLOOKUP(N396,INDIRECT('1.CropDatabase'!$C$3),8,0) -> #N/A | D396: =IF(VLOOKUP(N396,INDIRECT('1.CropDatabase'!$C$3),9,0)="DS","DS",R396*VLOOKUP(N396,INDIRECT('1.CropDatabase'!$C$3),9,0)) -> #N/A | E396: =B396+VLOOKUP(N396,INDIRECT('1.CropDatabase'!$C$3),6,0) -> #N/A | H396: =VLOOKUP(N396,INDIRECT('1.CropDatabase'!$C$3),16,0)*R396 -> #N/A | I396: =VLOOKUP(N396,INDIRECT('1.CropDatabase'!$C$3),15,0)*R396 -> #N/A | J396: =B396+VLOOKUP(N396,INDIRECT('1.CropDatabase'!$C$3),12,0) -> #N/A | K396: =B396+VLOOKUP(P396,INDIRECT('1.CropDatabase'!$C$3),12,0)+VLOOKUP(P396,INDIRECT('1.CropDatabase'!$C$3),13,0) -> #N/A | L396: =VLOOKUP($N396,INDIRECT('1.CropDatabase'!$C$3),33,0) -> #N/A | M396: =R396*VLOOKUP($N396,INDIRECT('1.CropDatabase'!$C$3),35,0) -> #N/A | O396: # | Q396: , | S396: bed | T396: =E396 -> #N/A | U396: - | V396: =K396 -> #N/A

Sheet 3.FieldMap
B1: FIELD MAP
B2: Represents 25 (A-F) or 12 (G-J) beds per plot with all beds at 25 feet. Plots are adjacent pairs (A+B, C+D, etc) so plan accordingly for irrigation, trellises, row covers, etc
C3: PLOT A
C4: Apr | G4: May | K4: Jun | O4: Jul | S4: Aug | W4: Sep | AA4: Oct | AE4: Nov
B5: 1
B6: 2
B7: 3
B8: 4
B9: 5
B10: 6
B11: 7
B12: 8
B13: 9
B14: 10
B15: 11
B16: 12
... B29: 25
C31: PLOT C
C32: Apr | G32: May | K32: Jun | O32: Jul | S32: Aug | W32: Sep | AA32: Oct | AE32: Nov
B33: 1
B34: 2
B35: 3
B36: 4
B37: 5
B38: 6
B39: 7
B40: 8
B41: 9
B42: 10
B43: 11
B44: 12
... B57: 25
C59: PLOT E
C60: Apr | G60: May | K60: Jun | O60: Jul | S60: Aug | W60: Sep | AA60: Oct | AE60: Nov
B61: 1
B62: 2
B63: 3
B64: 4
B65: 5
B66: 6
...

Sheet 4.SeedOrder
A1: Crop | B1: Variety | C1: Seed Distributor | D1: Code | E1: # of Seeds Needed | F1: Type of Packet | G1: # of Packets | H1: Cost/ Packet | I1: Total Cost | J1: # of beds
E2: =SUMIF('2.Sucessions'!$N$6:$N$396,D2,'2.Sucessions'!$C$6:$C$396) -> 0 | I2: =G2*H2 -> 0 | J2: =SUMIF('2.Sucessions'!$N$6:$N$396,'4.SeedOrder'!D2,'2.Sucessions'!$R$6:$R$396) -> 0
E3: =SUMIF('2.Sucessions'!$N$6:$N$396,'4.SeedOrder'!D3,'2.Sucessions'!$C$6:$C$396) -> 0 | I3: =G3*H3 -> 0 | J3: =SUMIF('2.Sucessions'!$N$6:$N$396,'4.SeedOrder'!D7,'2.Sucessions'!$R$6:$R$396) -> 0
E4: =SUMIF('2.Sucessions'!$N$6:$N$396,'4.SeedOrder'!D4,'2.Sucessions'!$C$6:$C$396) -> 0 | I4: =G4*H4 -> 0 | J4: =SUMIF('2.Sucessions'!$N$6:$N$396,'4.SeedOrder'!D46,'2.Sucessions'!$R$6:$R$396) -> 0
E5: =SUMIF('2.Sucessions'!$N$6:$N$396,'4.SeedOrder'!D5,'2.Sucessions'!$C$6:$C$396) -> 0 | I5: =G5*H5 -> 0 | J5: =SUMIF('2.Sucessions'!$N$6:$N$396,'4.SeedOrder'!D48,'2.Sucessions'!$R$6:$R$396) -> 0
E6: =SUMIF('2.Sucessions'!$N$6:$N$396,'4.SeedOrder'!D6,'2.Sucessions'!$C$6:$C$396) -> 0 | I6: =G6*H6 -> 0 | J6: =SUMIF('2.Sucessions'!$N$6:$N$396,'4.SeedOrder'!D47,'2.Sucessions'!$R$6:$R$396) -> 0
E7: =SUMIF('2.Sucessions'!$N$6:$N$396,'4.SeedOrder'!D7,'2.Sucessions'!$C$6:$C$396) -> 0 | I7: =G7*H7 -> 0 | J7: =SUMIF('2.Sucessions'!$N$6:$N$396,'4.SeedOrder'!D3,'2.Sucessions'!$R$6:$R$396) -> 0
E8: =SUMIF('2.Sucessions'!$N$6:$N$396,'4.SeedOrder'!D8,'2.Sucessions'!$C$6:$C$396) -> 0 | I8: =G8*H8 -> 0 | J8: =SUMIF('2.Sucessions'!$N$6:$N$396,'4.SeedOrder'!D4,'2.Sucessions'!$R$6:$R$396) -> 0
E9: =SUMIF('2.Sucessions'!$N$6:$N$396,'4.SeedOrder'!D9,'2.Sucessions'!$C$6:$C$396) -> 0 | I9: =G9*H9 -> 0 | J9: =SUMIF('2.Sucessions'!$N$6:$N$396,'4.SeedOrder'!D5,'2.Sucessions'!$R$6:$R$396) -> 0
E10: =SUMIF('2.Sucessions'!$N$6:$N$396,'4.SeedOrder'!D10,'2.Sucessions'!$C$6:$C$396) -> 0 | I10: =G10*H10 -> 0 | J10: =SUMIF('2.Sucessions'!$N$6:$N$396,'4.SeedOrder'!D6,'2.Sucessions'!$R$6:$R$396) -> 0
E11: =SUMIF('2.Sucessions'!$N$6:$N$396,'4.SeedOrder'!D11,'2.Sucessions'!$C$6:$C$396) -> 0 | I11: =G11*H11 -> 0 | J11: =SUMIF('2.Sucessions'!$N$6:$N$396,'4.SeedOrder'!D56,'2.Sucessions'!$R$6:$R$396) -> 0
E12: =SUMIF('2.Sucessions'!$N$6:$N$396,'4.SeedOrder'!D12,'2.Sucessions'!$C$6:$C$396) -> 0 | I12: =G12*H12 -> 0 | J12: =SUMIF('2.Sucessions'!$N$6:$N$396,'4.SeedOrder'!D12,'2.Sucessions'!$R$6:$R$396) -> 0
E13: =SUMIF('2.Sucessions'!$N$6:$N$396,'4.SeedOrder'!D13,'2.Sucessions'!$C$6:$C$396) -> 0 | I13: =G13*H13 -> 0 | J13: =SUMIF('2.Sucessions'!$N$6:$N$396,'4.SeedOrder'!D15,'2.Sucessions'!$R$6:$R$396) -> 0
E14: =SUMIF('2.Sucessions'!$N$6:$N$396,'4.SeedOrder'!D14,'2.Sucessions'!$C$6:$C$396) -> 0 | I14: =G14*H14 -> 0 | J14: =SUMIF('2.Sucessions'!$N$6:$N$396,'4.SeedOrder'!D16,'2.Sucessions'!$R$6:$R$396) -> 0
E15: =SUMIF('2.Sucessions'!$N$6:$N$396,'4.SeedOrder'!D15,'2.Sucessions'!$C$6:$C$396) -> 0 | I15: =G15*H15 -> 0 | J15: =SUMIF('2.Sucessions'!$N$6:$N$396,'4.SeedOrder'!D13,'2.Sucessions'!$R$6:$R$396) -> 0
E16: =SUMIF('2.Sucessions'!$N$6:$N$396,'4.SeedOrder'!D16,'2.Sucessions'!$C$6:$C$396) -> 0 | I16: =G16*H16 -> 0 | J16: =SUMIF('2.Sucessions'!$N$6:$N$396,'4.SeedOrder'!D14,'2.Sucessions'!$R$6:$R$396) -> 0
E17: =SUMIF('2.Sucessions'!$N$6:$N$396,'4.SeedOrder'!D17,'2.Sucessions'!$C$6:$C$396) -> 0 | I17: =G17*H17 -> 0 | J17: =SUMIF('2.Sucessions'!$N$6:$N$396,'4.SeedOrder'!D11,'2.Sucessions'!$R$6:$R$396) -> 0
E18: =SUMIF('2.Sucessions'!$N$6:$N$396,'4.SeedOrder'!D18,'2.Sucessions'!$C$6:$C$396) -> 0 | I18: =G18*H18 -> 0 | J18: =SUMIF('2.Sucessions'!$N$6:$N$396,'4.SeedOrder'!D10,'2.Sucessions'!$R$6:$R$396) -> 0
E19: =SUMIF('2.Sucessions'!$N$6:$N$396,'4.SeedOrder'!D19,'2.Sucessions'!$C$6:$C$396) -> 0 | I19: =G19*H19 -> 0 | J19: =SUMIF('2.Sucessions'!$N$6:$N$396,'4.SeedOrder'!D9,'2.Sucessions'!$R$6:$R$396) -> 0
E20: =SUMIF('2.Sucessions'!$N$6:$N$396,'4.SeedOrder'!D20,'2.Sucessions'!$C$6:$C$396) -> 0 | I20: =G20*H20 -> 0 | J20: =SUMIF('2.Sucessions'!$N$6:$N$396,'4.SeedOrder'!D8,'2.Sucessions'!$R$6:$R$396) -> 0
E21: =SUMIF('2.Sucessions'!$N$6:$N$396,'4.SeedOrder'!D21,'2.Sucessions'!$C$6:$C$396) -> 0 | I21: =G21*H21 -> 0 | J21: =SUMIF('2.Sucessions'!$N$6:$N$396,'4.SeedOrder'!D17,'2.Sucessions'!$R$6:$R$396) -> 0
E22: =SUMIF('2.Sucessions'!$N$6:$N$396,'4.SeedOrder'!D22,'2.Sucessions'!$C$6:$C$396) -> 0 | I22: =G22*H22 -> 0 | J22: =SUMIF('2.Sucessions'!$N$6:$N$396,'4.SeedOrder'!D18,'2.Sucessions'!$R$6:$R$396) -> 0
E23: =SUMIF('2.Sucessions'!$N$6:$N$396,'4.SeedOrder'!D23,'2.Sucessions'!$C$6:$C$396) -> 0 | I23: =G23*H23 -> 0 | J23: =SUMIF('2.Sucessions'!$N$6:$N$396,'4.SeedOrder'!D19,'2.Sucessions'!$R$6:$R$396) -> 0
E24: =SUMIF('2.Sucessions'!$N$6:$N$396,'4.SeedOrder'!D24,'2.Sucessions'!$C$6:$C$396) -> 0 | I24: =G24*H24 -> 0 | J24: =SUMIF('2.Sucessions'!$N$6:$N$396,'4.SeedOrder'!D20,'2.Sucessions'!$R$6:$R$396) -> 0
E25: =SUMIF('2.Sucessions'!$N$6:$N$396,'4.SeedOrder'!D25,'2.Sucessions'!$C$6:$C$396) -> 0 | I25: =G25*H25 -> 0 | J25: =SUMIF('2.Sucessions'!$N$6:$N$396,'4.SeedOrder'!D21,'2.Sucessions'!$R$6:$R$396) -> 0
E26: =SUMIF('2.Sucessions'!$N$6:$N$396,'4.SeedOrder'!D26,'2.Sucessions'!$C$6:$C$396) -> 0 | I26: =G26*H26 -> 0 | J26: =SUMIF('2.Sucessions'!$N$6:$N$396,'4.SeedOrder'!D22,'2.Sucessions'!$R$6:$R$396) -> 0
E27: =SUMIF('2.Sucessions'!$N$6:$N$396,'4.SeedOrder'!D27,'2.Sucessions'!$C$6:$C$396) -> 0 | I27: =G27*H27 -> 0 | J27: =SUMIF('2.Sucessions'!$N$6:$N$396,'4.SeedOrder'!D23,'2.Sucessions'!$R$6:$R$396) -> 0
E28: =SUMIF('2.Sucessions'!$N$6:$N$396,'4.SeedOrder'!D28,'2.Sucessions'!$C$6:$C$396) -> 0 | I28: =G28*H28 -> 0 | J28: =SUMIF('2.Sucessions'!$N$6:$N$396,'4.SeedOrder'!D25,'2.Sucessions'!$R$6:$R$396) -> 0
E29: =SUMIF('2.Sucessions'!$N$6:$N$396,'4.SeedOrder'!D29,'2.Sucessions'!$C$6:$C$396) -> 0 | I29: =G29*H29 -> 0 | J29: =SUMIF('2.Sucessions'!$N$6:$N$396,'4.SeedOrder'!D24,'2.Sucessions'!$R$6:$R$396) -> 0
E30: =SUMIF('2.Sucessions'!$N$6:$N$396,'4.SeedOrder'!D30,'2.Sucessions'!$C$6:$C$396) -> 0 | I30: =G30*H30 -> 0 | J30: =SUMIF('2.Sucessions'!$N$6:$N$396,'4.SeedOrder'!D26,'2.Sucessions'!$R$6:$R$396) -> 0
E31: =SUMIF('2.Sucessions'!$N$6:$N$396,'4.SeedOrder'!D31,'2.Sucessions'!$C$6:$C$396) -> 0 | I31: =G31*H31 -> 0 | J31: =SUMIF('2.Sucessions'!$N$6:$N$396,'4.SeedOrder'!D27,'2.Sucessions'!$R$6:$R$396) -> 0
E32: =SUMIF('2.Sucessions'!$N$6:$N$396,'4.SeedOrder'!D32,'2.Sucessions'!$C$6:$C$396) -> 0 | I32: =G32*H32 -> 0 | J32: =SUMIF('2.Sucessions'!$N$6:$N$396,'4.SeedOrder'!D28,'2.Sucessions'!$R$6:$R$396) -> 0
E33: =SUMIF('2.Sucessions'!$N$6:$N$396,'4.SeedOrder'!D33,'2.Sucessions'!$C$6:$C$396) -> 0 | I33: =G33*H33 -> 0 | J33: =SUMIF('2.Sucessions'!$N$6:$N$396,'4.SeedOrder'!D30,'2.Sucessions'!$R$6:$R$396) -> 0
E34: =SUMIF('2.Sucessions'!$N$6:$N$396,'4.SeedOrder'!D34,'2.Sucessions'!$C$6:$C$396) -> 0 | I34: =G34*H34 -> 0 | J34: =SUMIF('2.Sucessions'!$N$6:$N$396,'4.SeedOrder'!D29,'2.Sucessions'!$R$6:$R$396) -> 0
E35: =SUMIF('2.Sucessions'!$N$6:$N$396,'4.SeedOrder'!D35,'2.Sucessions'!$C$6:$C$396) -> 0 | I35: =G35*H35 -> 0 | J35: =SUMIF('2.Sucessions'!$N$6:$N$396,'4.SeedOrder'!D71,'2.Sucessions'!$R$6:$R$396) -> 0
E36: =SUMIF('2.Sucessions'!$N$6:$N$396,'4.SeedOrder'!D36,'2.Sucessions'!$C$6:$C$396) -> 0 | I36: =G36*H36 -> 0 | J36: =SUMIF('2.Sucessions'!$N$6:$N$396,'4.SeedOrder'!D31,'2.Sucessions'!$R$6:$R$396) -> 0
E37: =SUMIF('2.Sucessions'!$N$6:$N$396,'4.SeedOrder'!D37,'2.Sucessions'!$C$6:$C$396) -> 0 | I37: =G37*H37 -> 0 | J37: =SUMIF('2.Sucessions'!$N$6:$N$396,'4.SeedOrder'!D32,'2.Sucessions'!$R$6:$R$396) -> 0
E38: =SUMIF('2.Sucessions'!$N$6:$N$396,'4.SeedOrder'!D38,'2.Sucessions'!$C$6:$C$396) -> 0 | I38: =G38*H38 -> 0 | J38: =SUMIF('2.Sucessions'!$N$6:$N$396,'4.SeedOrder'!D33,'2.Sucessions'!$R$6:$R$396) -> 0
E39: =SUMIF('2.Sucessions'!$N$6:$N$396,'4.SeedOrder'!D39,'2.Sucessions'!$C$6:$C$396) -> 0 | I39: =G39*H39 -> 0 | J39: =SUMIF('2.Sucessions'!$N$6:$N$396,'4.SeedOrder'!D34,'2.Sucessions'!$R$6:$R$396) -> 0
E40: =SUMIF('2.Sucessions'!$N$6:$N$396,'4.SeedOrder'!D40,'2.Sucessions'!$C$6:$C$396) -> 0 | I40: =G40*H40 -> 0 | J40: =SUMIF('2.Sucessions'!$N$6:$N$396,'4.SeedOrder'!D35,'2.Sucessions'!$R$6:$R$396) -> 0
...

Sheet 5.TaskCalendar
A1: OoopsOrder | B1: Date | C1: Crop | D1: Sucession | E1: Plot | F1: Bed | G1: Action
A2: 526
A3: 493
A4: 571
A5: 577
A6: 584
A7: 441
A8: 1008
A9: 1097
A10: 462
A11: 1009
A12: 1624
A13: 1021
... A2188: 413

Sheet 6.ProjectedIncome
A1: =SUM('2.Sucessions'!M6:M248) -> #N/A | B1: Sum of all sucessions' Expected Revenue
A2: Crop | B2: Variety | C2: Code | D2: ExpectedYield | E2: Units | F2: Expected Revenue | G2: Harvest Window | H2: Units to CSA | I2: Price @ CSA | J2: Weeks Available @ CSA | K2: Units to Market | L2: Price @ Market | M2: Weeks Available @ Market | N2: Units to Restaurants | O2: Price @ Restaurants | P2: Weeks Available @ Restaurants
A3: ='1.CropDatabase'!B7 -> 0 | B3: ='1.CropDatabase'!C7 -> 0 | C3: ='1.CropDatabase'!A7 -> 0 | D3: =SUMIF('2.Sucessions'!$N$6:$N$396,C3,'2.Sucessions'!$K$6:$K$396) -> 0 | E3: =VLOOKUP($C3,INDIRECT('1.CropDatabase'!$C$3),33,0) -> #N/A | F3: =SUMIF('2.Sucessions'!$N$6:$N$396,C3,'2.Sucessions'!$M$6:$M$396) -> 0 | H3: =VLOOKUP(C3,'7.CSAsched'!A$5:AH$77,34,0) -> 0 | I3: =VLOOKUP(C3,'7.CSAsched'!A$5:AH$77,4,0) -> 0 | J3: =VLOOKUP(C3,'7.CSAsched'!A$5:AH$77,32,0) -> 0 | K3: =D3-H3-N3 -> 0 | O3: =I3 -> 0
A4: ='1.CropDatabase'!B8 -> 0 | B4: ='1.CropDatabase'!C8 -> 0 | C4: ='1.CropDatabase'!A8 -> 0 | D4: =SUMIF('2.Sucessions'!$N$6:$N$396,C4,'2.Sucessions'!$K$6:$K$396) -> 0 | E4: =VLOOKUP($C4,INDIRECT('1.CropDatabase'!$C$3),33,0) -> #N/A | F4: =SUMIF('2.Sucessions'!$N$6:$N$396,C4,'2.Sucessions'!$M$6:$M$396) -> 0 | H4: =VLOOKUP(C4,'7.CSAsched'!A$5:AH$77,34,0) -> 0 | I4: =VLOOKUP(C4,'7.CSAsched'!A$5:AH$77,4,0) -> 0 | J4: =VLOOKUP(C4,'7.CSAsched'!A$5:AH$77,32,0) -> 0 | K4: =D4-H4-N4 -> 0 | O4: =I4 -> 0
A5: ='1.CropDatabase'!B9 -> 0 | B5: ='1.CropDatabase'!C9 -> 0 | C5: ='1.CropDatabase'!A9 -> 0 | D5: =SUMIF('2.Sucessions'!$N$6:$N$396,C5,'2.Sucessions'!$K$6:$K$396) -> 0 | E5: =VLOOKUP($C5,INDIRECT('1.CropDatabase'!$C$3),33,0) -> #N/A | F5: =SUMIF('2.Sucessions'!$N$6:$N$396,C5,'2.Sucessions'!$M$6:$M$396) -> 0 | H5: =VLOOKUP(C5,'7.CSAsched'!A$5:AH$77,34,0) -> 0 | I5: =VLOOKUP(C5,'7.CSAsched'!A$5:AH$77,4,0) -> 0 | J5: =VLOOKUP(C5,'7.CSAsched'!A$5:AH$77,32,0) -> 0 | K5: =D5-H5-N5 -> 0 | O5: =I5 -> 0
A6: ='1.CropDatabase'!B10 -> 0 | B6: ='1.CropDatabase'!C10 -> 0 | C6: ='1.CropDatabase'!A10 -> 0 | D6: =SUMIF('2.Sucessions'!$N$6:$N$396,C6,'2.Sucessions'!$K$6:$K$396) -> 0 | E6: =VLOOKUP($C6,INDIRECT('1.CropDatabase'!$C$3),33,0) -> #N/A | F6: =SUMIF('2.Sucessions'!$N$6:$N$396,C6,'2.Sucessions'!$M$6:$M$396) -> 0 | H6: =VLOOKUP(C6,'7.CSAsched'!A$5:AH$77,34,0) -> 0 | I6: =VLOOKUP(C6,'7.CSAsched'!A$5:AH$77,4,0) -> 0 | J6: =VLOOKUP(C6,'7.CSAsched'!A$5:AH$77,32,0) -> 0 | K6: =D6-H6-N6 -> 0 | O6: =I6 -> 0
A7: ='1.CropDatabase'!B11 -> 0 | B7: ='1.CropDatabase'!C11 -> 0 | C7: ='1.CropDatabase'!A11 -> 0 | D7: =SUMIF('2.Sucessions'!$N$6:$N$396,C7,'2.Sucessions'!$K$6:$K$396) -> 0 | E7: =VLOOKUP($C7,INDIRECT('1.CropDatabase'!$C$3),33,0) -> #N/A | F7: =SUMIF('2.Sucessions'!$N$6:$N$396,C7,'2.Sucessions'!$M$6:$M$396) -> 0 | H7: =VLOOKUP(C7,'7.CSAsched'!A$5:AH$77,34,0) -> 0 | I7: =VLOOKUP(C7,'7.CSAsched'!A$5:AH$77,4,0) -> 0 | J7: =VLOOKUP(C7,'7.CSAsched'!A$5:AH$77,32,0) -> 0 | K7: =D7-H7-N7 -> 0 | O7: =I7 -> 0
A8: ='1.CropDatabase'!B12 -> 0 | B8: ='1.CropDatabase'!C12 -> 0 | C8: ='1.CropDatabase'!A12 -> 0 | D8: =SUMIF('2.Sucessions'!$N$6:$N$396,C8,'2.Sucessions'!$K$6:$K$396) -> 0 | E8: =VLOOKUP($C8,INDIRECT('1.CropDatabase'!$C$3),33,0) -> #N/A | F8: =SUMIF('2.Sucessions'!$N$6:$N$396,C8,'2.Sucessions'!$M$6:$M$396) -> 0 | H8: =VLOOKUP(C8,'7.CSAsched'!A$5:AH$77,34,0) -> 0 | I8: =VLOOKUP(C8,'7.CSAsched'!A$5:AH$77,4,0) -> 0 | J8: =VLOOKUP(C8,'7.CSAsched'!A$5:AH$77,32,0) -> 0 | K8: =D8-H8-N8 -> 0 | O8: =I8 -> 0
A9: ='1.CropDatabase'!B13 -> 0 | B9: ='1.CropDatabase'!C13 -> 0 | C9: ='1.CropDatabase'!A13 -> 0 | D9: =SUMIF('2.Sucessions'!$N$6:$N$396,C9,'2.Sucessions'!$K$6:$K$396) -> 0 | E9: =VLOOKUP($C9,INDIRECT('1.CropDatabase'!$C$3),33,0) -> #N/A | F9: =SUMIF('2.Sucessions'!$N$6:$N$396,C9,'2.Sucessions'!$M$6:$M$396) -> 0 | H9: =VLOOKUP(C9,'7.CSAsched'!A$5:AH$77,34,0) -> 0 | I9: =VLOOKUP(C9,'7.CSAsched'!A$5:AH$77,4,0) -> 0 | J9: =VLOOKUP(C9,'7.CSAsched'!A$5:AH$77,32,0) -> 0 | K9: =D9-H9-N9 -> 0 | O9: =I9 -> 0
A10: ='1.CropDatabase'!B14 -> 0 | B10: ='1.CropDatabase'!C14 -> 0 | C10: ='1.CropDatabase'!A14 -> 0 | D10: =SUMIF('2.Sucessions'!$N$6:$N$396,C10,'2.Sucessions'!$K$6:$K$396) -> 0 | E10: =VLOOKUP($C10,INDIRECT('1.CropDatabase'!$C$3),33,0) -> #N/A | F10: =SUMIF('2.Sucessions'!$N$6:$N$396,C10,'2.Sucessions'!$M$6:$M$396) -> 0 | H10: =VLOOKUP(C10,'7.CSAsched'!A$5:AH$77,34,0) -> 0 | I10: =VLOOKUP(C10,'7.CSAsched'!A$5:AH$77,4,0) -> 0 | J10: =VLOOKUP(C10,'7.CSAsched'!A$5:AH$77,32,0) -> 0 | K10: =D10-H10-N10 -> 0 | O10: =I10 -> 0
A11: ='1.CropDatabase'!B15 -> 0 | B11: ='1.CropDatabase'!C15 -> 0 | C11: ='1.CropDatabase'!A15 -> 0 | D11: =SUMIF('2.Sucessions'!$N$6:$N$396,C11,'2.Sucessions'!$K$6:$K$396) -> 0 | E11: =VLOOKUP($C11,INDIRECT('1.CropDatabase'!$C$3),33,0) -> #N/A | F11: =SUMIF('2.Sucessions'!$N$6:$N$396,C11,'2.Sucessions'!$M$6:$M$396) -> 0 | H11: =VLOOKUP(C11,'7.CSAsched'!A$5:AH$77,34,0) -> 0 | I11: =VLOOKUP(C11,'7.CSAsched'!A$5:AH$77,4,0) -> 0 | J11: =VLOOKUP(C11,'7.CSAsched'!A$5:AH$77,32,0) -> 0 | K11: =D11-H11-N11 -> 0 | O11: =I11 -> 0
A12: ='1.CropDatabase'!B16 -> 0 | B12: ='1.CropDatabase'!C16 -> 0 | C12: ='1.CropDatabase'!A16 -> 0 | D12: =SUMIF('2.Sucessions'!$N$6:$N$396,C12,'2.Sucessions'!$K$6:$K$396) -> 0 | E12: =VLOOKUP($C12,INDIRECT('1.CropDatabase'!$C$3),33,0) -> #N/A | F12: =SUMIF('2.Sucessions'!$N$6:$N$396,C12,'2.Sucessions'!$M$6:$M$396) -> 0 | H12: =VLOOKUP(C12,'7.CSAsched'!A$5:AH$77,34,0) -> 0 | I12: =VLOOKUP(C12,'7.CSAsched'!A$5:AH$77,4,0) -> 0 | J12: =VLOOKUP(C12,'7.CSAsched'!A$5:AH$77,32,0) -> 0 | K12: =D12-H12-N12 -> 0 | O12: =I12 -> 0
A13: ='1.CropDatabase'!B17 -> 0 | B13: ='1.CropDatabase'!C17 -> 0 | C13: ='1.CropDatabase'!A17 -> 0 | D13: =SUMIF('2.Sucessions'!$N$6:$N$396,C13,'2.Sucessions'!$K$6:$K$396) -> 0 | E13: =VLOOKUP($C13,INDIRECT('1.CropDatabase'!$C$3),33,0) -> #N/A | F13: =SUMIF('2.Sucessions'!$N$6:$N$396,C13,'2.Sucessions'!$M$6:$M$396) -> 0 | H13: =VLOOKUP(C13,'7.CSAsched'!A$5:AH$77,34,0) -> 0 | I13: =VLOOKUP(C13,'7.CSAsched'!A$5:AH$77,4,0) -> 0 | J13: =VLOOKUP(C13,'7.CSAsched'!A$5:AH$77,32,0) -> 0 | K13: =D13-H13-N13 -> 0 | O13: =I13 -> 0
A14: ='1.CropDatabase'!B18 -> 0 | B14: ='1.CropDatabase'!C18 -> 0 | C14: ='1.CropDatabase'!A18 -> 0 | D14: =SUMIF('2.Sucessions'!$N$6:$N$396,C14,'2.Sucessions'!$K$6:$K$396) -> 0 | E14: =VLOOKUP($C14,INDIRECT('1.CropDatabase'!$C$3),33,0) -> #N/A | F14: =SUMIF('2.Sucessions'!$N$6:$N$396,C14,'2.Sucessions'!$M$6:$M$396) -> 0 | H14: =VLOOKUP(C14,'7.CSAsched'!A$5:AH$77,34,0) -> 0 | I14: =VLOOKUP(C14,'7.CSAsched'!A$5:AH$77,4,0) -> 0 | J14: =VLOOKUP(C14,'7.CSAsched'!A$5:AH$77,32,0) -> 0 | K14: =D14-H14-N14 -> 0 | O14: =I14 -> 0
... A75: ='1.CropDatabase'!B79 -> 0 | B75: ='1.CropDatabase'!C79 -> 0 | C75: ='1.CropDatabase'!A79 -> 0 | D75: =SUMIF('2.Sucessions'!$N$6:$N$396,C75,'2.Sucessions'!$K$6:$K$396) -> 0 | E75: =VLOOKUP($C75,INDIRECT('1.CropDatabase'!$C$3),33,0) -> #N/A | F75: =SUMIF('2.Sucessions'!$N$6:$N$396,C75,'2.Sucessions'!$M$6:$M$396) -> 0 | H75: =VLOOKUP(C75,'7.CSAsched'!A$5:AH$77,34,0) -> 0 | I75: =VLOOKUP(C75,'7.CSAsched'!A$5:AH$77,4,0) -> 0 | J75: =VLOOKUP(C75,'7.CSAsched'!A$5:AH$77,32,0) -> 0 | K75: =D75-H75-N75 -> 0 | O75: =I75 -> 0

Sheet 7.CSAsched
A1: 1 | B1: 2 | C1: 3 | D1: 4 | E1: 5 | F1: 6 | G1: 7 | H1: 8 | I1: 9 | J1: 10 | K1: 11 | L1: 12 | M1: 13 | N1: 14 | O1: 15 | P1: 16 | Q1: 17 | R1: 18 | S1: 19 | T1: 20 | U1: 21 | V1: 22 | W1: 23 | X1: 24 | Y1: 25 | Z1: 26 | AA1: 27 | AB1: 28 | AC1: 29 | AD1: 30 | AE1: 31 | AF1: 32 | AG1: 33 | AH1: 34
A2: 30 | B2: Summer CSA Subscribers
A3: 30 | B3: Fall CSA Subscribers
A4: Code | B4: Crop | C4: Variety | D4: $/Unit | E4: Units | F4: # of Units Given as Share | G4: $/Share | H4: Box 1 | I4: Box 2 | J4: Box 3 | K4: Box 4 | L4: Box 5 | M4: Box 6 | N4: Box 7 | O4: Box 8 | P4: Box 9 | Q4: Box 10 | R4: Box 11 | S4: Box 12 | T4: Box 13 | U4: Box 14 | V4: Box 15 | W4: Box 16 | X4: Box 17 | Y4: Box 18 | Z4: Box 19 | AA4: Box 20 | AB4: Box 21 | AC4: Box 22 | AD4: Box 23 | AE4: Box 24 | AF4: # of Times Offered | AG4: # of Shares Given | AH4: Yield Directed to CSA
A5: ='1.CropDatabase'!A7 -> 0 | B5: ='1.CropDatabase'!B7 -> 0 | C5: ='1.CropDatabase'!C7 -> 0 | D5: ='1.CropDatabase'!S7 -> 0 | E5: ='1.CropDatabase'!R7 -> 0 | G5: =F5*D5 -> 0 | AF5: =SUM(H5:AE5) -> 0 | AG5: =SUM(H5:S5)*$A$2+SUM(T5:AE5)*$A$3 -> 0 | AH5: =AG5*F5 -> 0
A6: ='1.CropDatabase'!A8 -> 0 | B6: ='1.CropDatabase'!B8 -> 0 | C6: ='1.CropDatabase'!C8 -> 0 | D6: ='1.CropDatabase'!S8 -> 0 | E6: ='1.CropDatabase'!R8 -> 0 | G6: =F6*D6 -> 0 | AF6: =SUM(H6:AE6) -> 0 | AG6: =SUM(H6:S6)*$A$2+SUM(T6:AE6)*$A$3 -> 0 | AH6: =AG6*F6 -> 0
A7: ='1.CropDatabase'!A9 -> 0 | B7: ='1.CropDatabase'!B9 -> 0 | C7: ='1.CropDatabase'!C9 -> 0 | D7: ='1.CropDatabase'!S9 -> 0 | E7: ='1.CropDatabase'!R9 -> 0 | G7: =F7*D7 -> 0 | AF7: =SUM(H7:AE7) -> 0 | AG7: =SUM(H7:S7)*$A$2+SUM(T7:AE7)*$A$3 -> 0 | AH7: =AG7*F7 -> 0
A8: ='1.CropDatabase'!A10 -> 0 | B8: ='1.CropDatabase'!B10 -> 0 | C8: ='1.CropDatabase'!C10 -> 0 | D8: ='1.CropDatabase'!S10 -> 0 | E8: ='1.CropDatabase'!R10 -> 0 | G8: =F8*D8 -> 0 | AF8: =SUM(H8:AE8) -> 0 | AG8: =SUM(H8:S8)*$A$2+SUM(T8:AE8)*$A$3 -> 0 | AH8: =AG8*F8 -> 0
A9: ='1.CropDatabase'!A11 -> 0 | B9: ='1.CropDatabase'!B11 -> 0 | C9: ='1.CropDatabase'!C11 -> 0 | D9: ='1.CropDatabase'!S11 -> 0 | E9: ='1.CropDatabase'!R11 -> 0 | G9: =F9*D9 -> 0 | AF9: =SUM(H9:AE9) -> 0 | AG9: =SUM(H9:S9)*$A$2+SUM(T9:AE9)*$A$3 -> 0 | AH9: =AG9*F9 -> 0
A10: ='1.CropDatabase'!A12 -> 0 | B10: ='1.CropDatabase'!B12 -> 0 | C10: ='1.CropDatabase'!C12 -> 0 | D10: ='1.CropDatabase'!S12 -> 0 | E10: ='1.CropDatabase'!R12 -> 0 | G10: =F10*D10 -> 0 | AF10: =SUM(H10:AE10) -> 0 | AG10: =SUM(H10:S10)*$A$2+SUM(T10:AE10)*$A$3 -> 0 | AH10: =AG10*F10 -> 0
A11: ='1.CropDatabase'!A13 -> 0 | B11: ='1.CropDatabase'!B13 -> 0 | C11: ='1.CropDatabase'!C13 -> 0 | D11: ='1.CropDatabase'!S13 -> 0 | E11: ='1.CropDatabase'!R13 -> 0 | G11: =F11*D11 -> 0 | AF11: =SUM(H11:AE11) -> 0 | AG11: =SUM(H11:S11)*$A$2+SUM(T11:AE11)*$A$3 -> 0 | AH11: =AG11*F11 -> 0
A12: ='1.CropDatabase'!A14 -> 0 | B12: ='1.CropDatabase'!B14 -> 0 | C12: ='1.CropDatabase'!C14 -> 0 | D12: ='1.CropDatabase'!S14 -> 0 | E12: ='1.CropDatabase'!R14 -> 0 | G12: =F12*D12 -> 0 | AF12: =SUM(H12:AE12) -> 0 | AG12: =SUM(H12:S12)*$A$2+SUM(T12:AE12)*$A$3 -> 0 | AH12: =AG12*F12 -> 0
A13: ='1.CropDatabase'!A15 -> 0 | B13: ='1.CropDatabase'!B15 -> 0 | C13: ='1.CropDatabase'!C15 -> 0 | D13: ='1.CropDatabase'!S15 -> 0 | E13: ='1.CropDatabase'!R15 -> 0 | G13: =F13*D13 -> 0 | AF13: =SUM(H13:AE13) -> 0 | AG13: =SUM(H13:S13)*$A$2+SUM(T13:AE13)*$A$3 -> 0 | AH13: =AG13*F13 -> 0
A14: ='1.CropDatabase'!A16 -> 0 | B14: ='1.CropDatabase'!B16 -> 0 | C14: ='1.CropDatabase'!C16 -> 0 | D14: ='1.CropDatabase'!S16 -> 0 | E14: ='1.CropDatabase'!R16 -> 0 | G14: =F14*D14 -> 0 | AF14: =SUM(H14:AE14) -> 0 | AG14: =SUM(H14:S14)*$A$2+SUM(T14:AE14)*$A$3 -> 0 | AH14: =AG14*F14 -> 0
A15: ='1.CropDatabase'!A17 -> 0 | B15: ='1.CropDatabase'!B17 -> 0 | C15: ='1.CropDatabase'!C17 -> 0 | D15: ='1.CropDatabase'!S17 -> 0 | E15: ='1.CropDatabase'!R17 -> 0 | G15: =F15*D15 -> 0 | AF15: =SUM(H15:AE15) -> 0 | AG15: =SUM(H15:S15)*$A$2+SUM(T15:AE15)*$A$3 -> 0 | AH15: =AG15*F15 -> 0
A16: ='1.CropDatabase'!A18 -> 0 | B16: ='1.CropDatabase'!B18 -> 0 | C16: ='1.CropDatabase'!C18 -> 0 | D16: ='1.CropDatabase'!S18 -> 0 | E16: ='1.CropDatabase'!R18 -> 0 | G16: =F16*D16 -> 0 | AF16: =SUM(H16:AE16) -> 0 | AG16: =SUM(H16:S16)*$A$2+SUM(T16:AE16)*$A$3 -> 0 | AH16: =AG16*F16 -> 0
... A77: ='1.CropDatabase'!A79 -> 0 | B77: ='1.CropDatabase'!B79 -> 0 | C77: ='1.CropDatabase'!C79 -> 0 | D77: ='1.CropDatabase'!S79 -> 0 | E77: ='1.CropDatabase'!R79 -> 0 | G77: =F77*D77 -> 0 | AF77: =SUM(H77:AE77) -> 0 | AG77: =SUM(H77:S77)*$A$2+SUM(T77:AE77)*$A$3 -> 0 | AH77: =AG77*F77 -> 0
H78: =SUMIF(H5:H77,1,$G5:$G77) -> 0 | I78: =SUMIF(I5:I77,1,$G5:$G77) -> 0 | J78: =SUMIF(J5:J77,1,$G5:$G77) -> 0 | K78: =SUMIF(K5:K77,1,$G5:$G77) -> 0 | L78: =SUMIF(L5:L77,1,$G5:$G77) -> 0 | M78: =SUMIF(M5:M77,1,$G5:$G77) -> 0 | N78: =SUMIF(N5:N77,1,$G5:$G77) -> 0 | O78: =SUMIF(O5:O77,1,$G5:$G77) -> 0 | ... AE78: =SUMIF(AE5:AE77,1,$G5:$G77) -> 0
F81: Summer Total Value | G81: =SUM(H78:S78) -> 0
F82: Summer Price/box | G82: =G81/12 -> 0
F84: Fall Total Value | G84: =SUM(T78:AE78) -> 0
F85: Fall Price/box | G85: =G84/12 -> 0

Sheet 8.Rest.Sched
A1: Crop | B1: Start Date | C1: End Date | D1: Frequency | E1: Price/# | F1: 43241 | G1: =F1+7 -> 43248 | H1: =G1+7 -> 43255 | I1: =H1+7 -> 43262 | J1: =I1+7 -> 43269 | K1: =J1+7 -> 43276 | L1: =K1+7 -> 43283 | M1: =L1+7 -> 43290 | N1: =M1+7 -> 43297 | ... AF1: =AE1+7 -> 43423
A2: Arugula | B2: 43247 | C2: 43423 | D2: weekly | E2: 6 | J2: 1 | K2: 1 | L2: 1 | M2: 1 | N2: 1 | O2: 1 | P2: 1 | Q2: 1 | R2: 1 | S2: 1 | T2: 1 | U2: 1 | V2: 1 | W2: 1 | X2: 1 | Y2: 1 | Z2: 1 | AA2: 1 | AB2: 1 | AC2: 1 | AD2: 1 | AE2: 1 | AF2: 1
A3: Basil | B3: 43301 | C3: 43363 | D3: weekly | E3: 12 | O3: 1 | P3: 1 | Q3: 1 | R3: 1 | S3: 1 | T3: 1 | U3: 1 | V3: 1 | W3: 1
A4: Beets | B4: 43247 | C4: 43423 | D4: weekly | E4: 2 | J4: 1 | K4: 1 | L4: 1 | M4: 1 | N4: 1 | O4: 1 | P4: 1 | Q4: 1 | R4: 1 | S4: 1 | T4: 1 | U4: 1 | V4: 1 | W4: 1 | X4: 1 | Y4: 1 | Z4: 1 | AA4: 1 | AB4: 1 | AC4: 1 | AD4: 1 | AE4: 1 | AF4: 1
A5: Carrots | B5: 43267 | C5: 43423 | D5: weekly | E5: 2.75 | J5: 1` | K5: 1 | L5: 1` | M5: 2 | N5: 1` | O5: 3 | P5: 1` | Q5: 4 | R5: 1` | S5: 5 | T5: 1` | U5: 6 | V5: 1` | W5: 7 | X5: 1` | Y5: 8 | Z5: 1` | AA5: 9 | AB5: 1` | AC5: 10 | AD5: 1` | AE5: 11 | AF5: 1`
A6: Chard (Baby) | B6: 43247 | C6: 43423 | D6: weekly | E6: 6 | J6: 1 | K6: 1 | L6: 1 | M6: 1 | N6: 1 | O6: 1 | P6: 1 | Q6: 1 | R6: 1 | S6: 1 | T6: 1 | U6: 1 | V6: 1 | W6: 1 | X6: 1 | Y6: 1 | Z6: 1 | AA6: 1 | AB6: 1 | AC6: 1 | AD6: 1 | AE6: 1 | AF6: 1
A7: Chard (Reg) | B7: 43270 | C7: 43423 | D7: weekly | E7: 3 | J7: 1 | K7: 1 | L7: 1 | M7: 1 | N7: 1 | O7: 1 | P7: 1 | Q7: 1 | R7: 1 | S7: 1 | T7: 1 | U7: 1 | V7: 1 | W7: 1 | X7: 1 | Y7: 1 | Z7: 1 | AA7: 1 | AB7: 1 | AC7: 1 | AD7: 1 | AE7: 1 | AF7: 1
A8: Fennel | B8: 43290 | C8: 43423 | D8: weekly | E8: 2.5 | M8: 2 | N8: 1` | O8: 3 | P8: 1` | Q8: 4 | R8: 1` | S8: 5 | T8: 1` | U8: 6 | V8: 1` | W8: 7 | X8: 1` | Y8: 8 | Z8: 1` | AA8: 9 | AB8: 1` | AC8: 10 | AD8: 1` | AE8: 11 | AF8: 1`
A9: Kale | B9: 43247 | C9: 43423 | D9: weekly | E9: 3 | M9: 1 | N9: 1 | O9: 1 | P9: 1 | Q9: 1 | R9: 1 | S9: 1 | T9: 1 | U9: 1 | V9: 1 | W9: 1 | X9: 1 | Y9: 1 | Z9: 1 | AA9: 1 | AB9: 1 | AC9: 1 | AD9: 1 | AE9: 1 | AF9: 1
A10: Head Lettuce | B10: 43263 | C10: 43423 | D10: weekly | E10: 4 | J10: 1 | K10: 1 | L10: 1 | M10: 1 | N10: 1 | O10: 1 | P10: 1 | Q10: 1 | R10: 1 | S10: 1 | T10: 1 | U10: 1 | V10: 1 | W10: 1 | X10: 1 | Y10: 1 | Z10: 1 | AA10: 1 | AB10: 1 | AC10: 1 | AD10: 1 | AE10: 1 | AF10: 1
A11: Salad Mix | B11: 43263 | C11: 43423 | D11: weekly | E11: 6 | J11: 1 | K11: 1 | L11: 1 | M11: 1 | N11: 1 | O11: 1 | P11: 1 | Q11: 1 | R11: 1 | S11: 1 | T11: 1 | U11: 1 | V11: 1 | W11: 1 | X11: 1 | Y11: 1 | Z11: 1 | AA11: 1 | AB11: 1 | AC11: 1 | AD11: 1 | AE11: 1 | AF11: 1
A12: Braising Mix | B12: 43247 | C12: 43423 | D12: weekly | E12: 5.5 | J12: 1 | K12: 1 | L12: 1 | M12: 1 | N12: 1 | O12: 1 | P12: 1 | Q12: 1 | R12: 1 | S12: 1 | T12: 1 | U12: 1 | V12: 1 | W12: 1 | X12: 1 | Y12: 1 | Z12: 1 | AA12: 1 | AB12: 1 | AC12: 1 | AD12: 1 | AE12: 1 | AF12: 1
A13: Mustard | B13: 43247 | C13: 43423 | D13: weekly | E13: 3 | J13: 1 | K13: 1 | L13: 1 | M13: 1 | N13: 1 | O13: 1 | P13: 1 | Q13: 1 | R13: 1 | S13: 1 | T13: 1 | U13: 1 | V13: 1 | W13: 1 | X13: 1 | Y13: 1 | Z13: 1 | AA13: 1 | AB13: 1 | AC13: 1 | AD13: 1 | AE13: 1 | AF13: 1
A14: Scallions | B14: 43276 | C14: 43423 | D14: weekly | E14: 8 | K14: 1 | L14: 1 | M14: 1 | N14: 1 | O14: 1 | P14: 1 | Q14: 1 | R14: 1 | S14: 1 | T14: 1 | U14: 1 | V14: 1 | W14: 1 | X14: 1 | Y14: 1 | Z14: 1 | AA14: 1 | AB14: 1 | AC14: 1 | AD14: 1 | AE14: 1 | AF14: 1
A15: Radish | B15: 43240 | C15: 43284 | D15: weekly | E15: 3.25 | I15: 1 | J15: 1 | K15: 1 | L15: 1 | W15: 1 | X15: 1 | Y15: 1 | Z15: 1 | AA15: 1 | AB15: 1 | AC15: 1 | AD15: 1 | AE15: 1 | AF15: 1
A16: Spinach | B16: 43242 | C16: 43284 | D16: weekly | E16: 6 | X16: 1 | Y16: 1 | Z16: 1 | AA16: 1 | AB16: 1 | AC16: 1 | AD16: 1 | AE16: 1 | AF16: 1
A17: Turnips | B17: 43240 | C17: 43423 | D17: weekly | E17: 3 | M17: 1 | N17: 1 | O17: 1 | P17: 1 | Q17: 1 | R17: 1 | S17: 1 | T17: 1 | U17: 1 | V17: 1 | W17: 1 | X17: 1 | Y17: 1 | Z17: 1 | AA17: 1 | AB17: 1 | AC17: 1 | AD17: 1 | AE17: 1 | AF17: 1
A18: Shishitos | D18: weekly | E18: 4 | P18: 1 | Q18: 1 | R18: 1 | S18: 1 | T18: 1 | U18: 1 | V18: 1 | W18: 1 | X18: 1 | Y18: 1 | Z18: 1 | AA18: 1
